BEGIN:VCALENDAR
VERSION:2.0
PRODID:www.stappen-shoppen.nl
BEGIN:VEVENT
UID:stappen-shoppen.nl/entity/69db7c6b8c39d73acf08e5d3
DTSTAMP:20260419T174353Z
ORGANIZER;CN=:MAILTO:
DTSTART:20260530T130000Z
DTEND:20260530T150000Z
URL:https://fr.visitbaarle.com/ical/69db7c6b8c39d73acf08e5d3
SUMMARY:Wandeling met pastoor van Herdegom
DESCRIPTION:Op 30 mei en 27 juni vanaf 15 uur organiseert Heemkundekring Amalia van Solms een ludieke wandeling met ‘pastoor Van Herdegom’.
END:VEVENT
BEGIN:VEVENT
UID:stappen-shoppen.nl/entity/69db7c6b8c39d73acf08e5d3
DTSTAMP:20260419T174353Z
ORGANIZER;CN=:MAILTO:
DTSTART:20260627T130000Z
DTEND:20260627T150000Z
URL:https://fr.visitbaarle.com/ical/69db7c6b8c39d73acf08e5d3
SUMMARY:Wandeling met pastoor van Herdegom
DESCRIPTION:Op 30 mei en 27 juni vanaf 15 uur organiseert Heemkundekring Amalia van Solms een ludieke wandeling met ‘pastoor Van Herdegom’.
END:VEVENT
END:VCALENDAR

